BEGIN:VCALENDAR
VERSION:2.0
PRODID:-//wp-events-plugin.com//7.1.2//EN
BEGIN:VEVENT
UID:0-39@funga.fi
DTSTART:20260524T090000Z
DTEND:20260524T120000Z
DTSTAMP:20260318T193611Z
URL:https://www.funga.fi/tapahtumat/kevatsieniretki-5/
SUMMARY:Kevätsieniretki
DESCRIPTION:&nbsp\;\n\n\n\n\n\n\n\nSunnuntaina 24.5.2026 klo 11–14\n\n\nR
 aappavuoret\, Vantaa\n\nJärjestämme kevätsieniretken Vantaan Raappavuor
 ille (= Martinlaakson ja Variston välinen metsäalue).\n\n\n\n\n\n\n\n\n\
 n\n\n\n\n&nbsp\;\n\nTapaamme Martinlaakson rautatieasemalla klo 11.00\, jo
 sta siirrymme\n\njalan Laajavuoren yli Raappavuorille. Retkelle ilmoittaut
 uminen\n\non toivottavaa\, muttei pakollista. Retkelle ilmoittautuneet\n\n
 mielellään sähköpostilla: sihteeri@funga.fi.\n\n \n\nPysäköintitila
 a alueella on rajallisesti.\nPaikalle pääsee P- ja I-junilla sekä bussi
 yhteyksillä.\n\n&nbsp\;\n\nTervetuloa mukaan!\n\n\n\n\n\n
END:VEVENT
END:VCALENDAR